BEGIN:VCALENDAR
VERSION:2.0
PRODID:-//hacksw/handcal//NONSGML v1.0//EN
BEGIN:VEVENT
DTSTART:20251007T083000
DTEND:20251007T130000
LOCATION:Stade de l'USO
ORGANIZER;CN=Anne ROIRET:MAILTO:familleroiret@aol.com
SUMMARY:Orléans 7 octobre 2025 : conférence sur le management intergénérationnel
DESCRIPTION:  Bonjour,Le 7 octobre, nous vous donnons rendez-vous dans un lieu un peu… différent : le Stade de l’US Orléans !Dès 8h30, rejoignez-nous autour d’un café pour une matinée qui sera riche en...
URL:https://alumni.groupe-adecco.fr/fr/event/orleans-7-octobre-2025-conference-sur-le-management-intergenerationnel/2025/10/07/266
BEGIN:VALARM
TRIGGER:-P0DT1H0M0S
ACTION:DISPLAY
END:VALARM
END:VEVENT
END:VCALENDAR