BEGIN:VCALENDAR
VERSION:2.0
PRODID:-//hacksw/handcal//NONSGML v1.0//EN
BEGIN:VEVENT
DTSTART:20260630T100000
DTEND:20260630T150000
LOCATION:Campus Igensia \n231 Rue de la Garenne \n92000 Nanterre
ORGANIZER;CN=Christine Croibier:MAILTO:christine.croibier@adeccogroup.com
SUMMARY:SAVE THE DATE – Réunion nationale Alumni
DESCRIPTION: Nous sommes heureux avec Jacques Delsaut de vous annoncer la tenue de notre réunion nationale Alumni, qui se déroulera le 30 juin 2026 sur le campus Igensia – Nanterre (Paris). Cette matinée sera...
URL:https://alumni.groupe-adecco.fr/fr/event/save-the-date-reunion-nationale-alumni/2026/06/30/277
BEGIN:VALARM
TRIGGER:-P0DT1H0M0S
ACTION:DISPLAY
END:VALARM
END:VEVENT
END:VCALENDAR